BEGIN:VCALENDAR
VERSION:2.0
PRODID:-//Lago by Druthers - ECPv6.15.20//NONSGML v1.0//EN
CALSCALE:GREGORIAN
METHOD:PUBLISH
X-ORIGINAL-URL:https://lagobydruthers.com
X-WR-CALDESC:Events for Lago by Druthers
REFRESH-INTERVAL;VALUE=DURATION:PT1H
X-Robots-Tag:noindex
X-PUBLISHED-TTL:PT1H
BEGIN:VTIMEZONE
TZID:America/New_York
BEGIN:DAYLIGHT
TZOFFSETFROM:-0500
TZOFFSETTO:-0400
TZNAME:EDT
DTSTART:20240310T070000
END:DAYLIGHT
BEGIN:STANDARD
TZOFFSETFROM:-0400
TZOFFSETTO:-0500
TZNAME:EST
DTSTART:20241103T060000
END:STANDARD
BEGIN:DAYLIGHT
TZOFFSETFROM:-0500
TZOFFSETTO:-0400
TZNAME:EDT
DTSTART:20250309T070000
END:DAYLIGHT
BEGIN:STANDARD
TZOFFSETFROM:-0400
TZOFFSETTO:-0500
TZNAME:EST
DTSTART:20251102T060000
END:STANDARD
BEGIN:DAYLIGHT
TZOFFSETFROM:-0500
TZOFFSETTO:-0400
TZNAME:EDT
DTSTART:20260308T070000
END:DAYLIGHT
BEGIN:STANDARD
TZOFFSETFROM:-0400
TZOFFSETTO:-0500
TZNAME:EST
DTSTART:20261101T060000
END:STANDARD
END:VTIMEZONE
BEGIN:VEVENT
DTSTART;TZID=America/New_York:20250831T150000
DTEND;TZID=America/New_York:20250831T180000
DTSTAMP:20260422T141843
CREATED:20250821T184507Z
LAST-MODIFIED:20250821T185308Z
UID:10000009-1756652400-1756663200@lagobydruthers.com
SUMMARY:Live Music: Steve Candlen
DESCRIPTION:
URL:https://lagobydruthers.com/event/live-music-steve-candlen/
LOCATION:Lago By Druthers\, 550 Union Ave.\, Saratoga Springs\, NY\, 12866\, United States
ATTACH;FMTTYPE=image/jpeg:https://lagobydruthers.com/wp-content/uploads/2025/08/Steve-Candlen.jpeg
END:VEVENT
BEGIN:VEVENT
DTSTART;TZID=America/New_York:20250830T180000
DTEND;TZID=America/New_York:20250830T210000
DTSTAMP:20260422T141843
CREATED:20250821T184152Z
LAST-MODIFIED:20250821T205612Z
UID:10000008-1756576800-1756587600@lagobydruthers.com
SUMMARY:Live Music: The Wallies
DESCRIPTION:
URL:https://lagobydruthers.com/event/live-music-the-wallies/
LOCATION:Lago By Druthers\, 550 Union Ave.\, Saratoga Springs\, NY\, 12866\, United States
ATTACH;FMTTYPE=image/jpeg:https://lagobydruthers.com/wp-content/uploads/2025/08/Wallies.jpg
END:VEVENT
BEGIN:VEVENT
DTSTART;TZID=America/New_York:20250824T150000
DTEND;TZID=America/New_York:20250824T180000
DTSTAMP:20260422T141843
CREATED:20250821T183355Z
LAST-MODIFIED:20250821T183355Z
UID:10000006-1756047600-1756058400@lagobydruthers.com
SUMMARY:Live Music: Jeff Brisbin
DESCRIPTION:
URL:https://lagobydruthers.com/event/live-music-jeff-brisbin/
LOCATION:Lago By Druthers\, 550 Union Ave.\, Saratoga Springs\, NY\, 12866\, United States
ATTACH;FMTTYPE=image/webp:https://lagobydruthers.com/wp-content/uploads/2025/08/Jeff-Brisbin.webp
END:VEVENT
BEGIN:VEVENT
DTSTART;TZID=America/New_York:20250823T180000
DTEND;TZID=America/New_York:20250823T210000
DTSTAMP:20260422T141843
CREATED:20250821T182716Z
LAST-MODIFIED:20250822T010905Z
UID:10000005-1755972000-1755982800@lagobydruthers.com
SUMMARY:Live Music: Whiz Bang
DESCRIPTION:Fresh funk jazz from spa city to you.
URL:https://lagobydruthers.com/event/live-music-whiz-bang/
LOCATION:Lago By Druthers\, 550 Union Ave.\, Saratoga Springs\, NY\, 12866\, United States
ATTACH;FMTTYPE=image/heic:https://lagobydruthers.com/wp-content/uploads/2025/08/Whiz-Bang.jpg
END:VEVENT
BEGIN:VEVENT
DTSTART;TZID=America/New_York:20250822T180000
DTEND;TZID=America/New_York:20250822T210000
DTSTAMP:20260422T141843
CREATED:20250821T182434Z
LAST-MODIFIED:20250821T182434Z
UID:10000004-1755885600-1755896400@lagobydruthers.com
SUMMARY:Live Music: Radio Junkies
DESCRIPTION:
URL:https://lagobydruthers.com/event/live-music-radio-junkies/
LOCATION:Lago By Druthers\, 550 Union Ave.\, Saratoga Springs\, NY\, 12866\, United States
ATTACH;FMTTYPE=image/jpeg:https://lagobydruthers.com/wp-content/uploads/2025/08/Radio-Junkies.jpg
END:VEVENT
END:VCALENDAR